Workbook
Name be: Rangliste!$H$4

Sheet Rangliste
D1: Viehschau Muotathal 24.9.2026
D2: Auffuhr 359 Stück (2025 341 Stück)
G3: Betr. Nr.
B4: Miss | D4: Muotathal | H4: 1 | I4: Betschart Silvan, Hoftrog 7
C5: 1 | D5: =IFERROR(VLOOKUP(G5,Aussteller!$A$2:$B$34,2,FALSE),"") -> GG Plattenbach, Betschart Peter und Daniel | G5: 101 | H5: 9 | I5: Blaser Theo, Hauptstr. 17
C6: 2 | D6: =IFERROR(VLOOKUP(G6,Aussteller!$A$2:$B$34,2,FALSE),"") -> Gwerder Roland, Höfli | G6: 107 | H6: 21 | I6: Gwerder Michael, Büchsenen
C7: 3 | D7: =IFERROR(VLOOKUP(G7,Aussteller!$A$2:$B$34,2,FALSE),"") -> Gwerder Roland, Höfli | G7: 107 | H7: 24 | I7: Gwerder Christof, Boden 1
H8: 38 | I8: Pfyl Oskar, Kappelmatt 2a
B9: Miss | D9: Original Braunvieh | H9: 48 | I9: Suter Markus, Tristel 2
C10: 1 | D10: =IFERROR(VLOOKUP(G10,Aussteller!$A$2:$B$34,2,FALSE),"") -> Suter Christian, Stoosstr. 3 | G10: 49 | H10: 49 | I10: Suter Christian, Stoosstr. 3
C11: 2 | D11: =IFERROR(VLOOKUP(G11,Aussteller!$A$2:$B$34,2,FALSE),"") -> Bürgler Roland, Pächtenmatt | G11: 203 | H11: 64 | I11: Schelbert Edy, Figgleren 2
C12: 3 | D12: =IFERROR(VLOOKUP(G12,Aussteller!$A$2:$B$34,2,FALSE),"") -> Föhn-Zurfluh Ruedi, Grossmatt | G12: 73 | H12: 71 | I12: Heinzer Benno, Sand 2
H13: 73 | I13: Föhn-Zurfluh Ruedi, Grossmatt
B14: Miss | D14: Schöneuter | H14: 76 | I14: Büeler-Föhn Franz, Husmattli
C15: 1 | D15: =IFERROR(VLOOKUP(G15,Aussteller!$A$2:$B$34,2,FALSE),"") -> Gwerder Roland, Höfli | G15: 107 | H15: 77 | I15: Gwerder Armin, Hundschöpfi
C16: 2 | D16: =IFERROR(VLOOKUP(G16,Aussteller!$A$2:$B$34,2,FALSE),"") -> GG Plattenbach, Betschart Peter und Daniel | G16: 101 | H16: 79 | I16: Schelbert-Bürgler Frowin, Steinweid
C17: 3 | D17: =IFERROR(VLOOKUP(G17,Aussteller!$A$2:$B$34,2,FALSE),"") -> GG Plattenbach, Betschart Peter und Daniel | G17: 101 | H17: 82 | I17: Gwerder Alex, Hengsthorn
H18: 101 | I18: GG Plattenbach, Betschart Peter und Daniel
B19: Miss | D19: Rind | H19: 103 | I19: BG Betschart-Suter, Wil 37
C20: 1 | D20: =IFERROR(VLOOKUP(G20,Aussteller!$A$2:$B$34,2,FALSE),"") -> GG Plattenbach, Betschart Peter und Daniel | G20: 101 | H20: 105 | I20: Betschart-Marty Oswin, Huob
C21: 2 | D21: =IFERROR(VLOOKUP(G21,Aussteller!$A$2:$B$34,2,FALSE),"") -> Gwerder Roland, Höfli | G21: 107 | H21: 106 | I21: Betschart Michael, Giezenen 2
C22: 3 | D22: =IFERROR(VLOOKUP(G22,Aussteller!$A$2:$B$34,2,FALSE),"") -> Pfyl Oskar, Kappelmatt 2a | G22: 38 | H22: 107 | I22: Gwerder Roland, Höfli
H23: 119 | I23: Gwerder Manuel, Figgleren 2
B24: Miss | D24: OB Rind | H24: 124 | I24: Gwerder Cornel, Marktstr. 31a
C25: 1 | D25: =IFERROR(VLOOKUP(G25,Aussteller!$A$2:$B$34,2,FALSE),"") -> Föhn-Zurfluh Ruedi, Grossmatt | G25: 73 | H25: 126 | I25: Beeler Noldi, Hürithal 10
C26: 2 | D26: =IFERROR(VLOOKUP(G26,Aussteller!$A$2:$B$34,2,FALSE),"") -> Bürgler Roland, Pächtenmatt | G26: 203 | H26: 127 | I26: Schelbert Armin, Hauptstr. 86
C27: 3 | D27: =IFERROR(VLOOKUP(G27,Aussteller!$A$2:$B$34,2,FALSE),"") -> Gwerder Armin, Hundschöpfi | G27: 77 | H27: 129 | I27: Betschart Manfred, Ober Eggeli 2
H28: 130 | I28: Schelbert Cornel, Haselbach 2
B29: Abt. 1 | D29: Stiere über 2 Jahre | F29: Betr. Nr. | H29: 132 | I29: Schelbert Peter, Tschalun 27
B30: K | C30: 1 | D30: =IFERROR(VLOOKUP(F30,Aussteller!$A$2:$B$35,2,FALSE),"") -> Betschart Ernst, Vordere Brücke 9 | F30: 229 | H30: 133 | I30: Betschart Willi, Hürital 6
B31: K | C31: =C30+1 -> 2 | D31: =IFERROR(VLOOKUP(F31,Aussteller!$A$2:$B$34,2,FALSE),"") -> Blaser Theo, Hauptstr. 17 | F31: 9 | H31: 200 | I31: Betschart Xaver, Hengsthorn
C32: =C31+1 -> 3 | D32: =IFERROR(VLOOKUP(F32,Aussteller!$A$2:$B$34,2,FALSE),"") -> Betschart Michael, Giezenen 2 | F32: 106 | H32: 201 | I32: Betschart Daniel, Kosterweid
C33: =C32+1 -> 4 | D33: =IFERROR(VLOOKUP(F33,Aussteller!$A$2:$B$34,2,FALSE),"") -> Pfyl Oskar, Kappelmatt 2a | F33: 38 | H33: 202 | I33: Bürgler Pius, Teufdohlen
B35: Abt. 2 | D35: Stiere 1 – 2 Jahre
B36: K | C36: 1 | D36: =IFERROR(VLOOKUP(F36,Aussteller!$A$2:$B$34,2,FALSE),"") -> Büeler-Föhn Franz, Husmattli | F36: 76
B37: K | C37: =C36+1 -> 2 | D37: =IFERROR(VLOOKUP(F37,Aussteller!$A$2:$B$34,2,FALSE),"") -> GG Plattenbach, Betschart Peter und Daniel | F37: 101
C38: =C37+1 -> 3 | D38: =IFERROR(VLOOKUP(F38,Aussteller!$A$2:$B$34,2,FALSE),"") -> Gwerder Alex, Hengsthorn | F38: 82
C39: =C38+1 -> 4 | D39: =IFERROR(VLOOKUP(F39,Aussteller!$A$2:$B$34,2,FALSE),"") -> Suter Markus, Tristel 2 | F39: 48
B41: Abt. 3 | D41: Stiere bis 1 Jahr
B42: K | C42: 1 | D42: =IFERROR(VLOOKUP(F42,Aussteller!$A$2:$B$34,2,FALSE),"") -> Betschart-Marty Oswin, Huob | F42: 105
B43: K | C43: =C42+1 -> 2 | D43: =IFERROR(VLOOKUP(F43,Aussteller!$A$2:$B$34,2,FALSE),"") -> Schelbert Peter, Tschalun 27 | F43: 132
C44: =C43+1 -> 3 | D44: =IFERROR(VLOOKUP(F44,Aussteller!$A$2:$B$34,2,FALSE),"") -> Schelbert Armin, Hauptstr. 86 | F44: 127
C45: =C44+1 -> 4 | D45: =IFERROR(VLOOKUP(F45,Aussteller!$A$2:$B$34,2,FALSE),"") -> Föhn-Zurfluh Ruedi, Grossmatt | F45: 73
C46: =C45+1 -> 5 | D46: =IFERROR(VLOOKUP(F46,Aussteller!$A$2:$B$34,2,FALSE),"") -> Föhn-Zurfluh Ruedi, Grossmatt | F46: 73
D47: =IFERROR(VLOOKUP(J42,Aussteller!$A$2:$B$34,2,FALSE),"")
B48: Abt. 8 | D48: DL und Sternenkühe
B49: K | C49: 1 | D49: =IFERROR(VLOOKUP(F49,Aussteller!$A$2:$B$34,2,FALSE),"") -> Gwerder Roland, Höfli | F49: 107
B50: K | C50: =C49+1 -> 2 | D50: =IFERROR(VLOOKUP(F50,Aussteller!$A$2:$B$34,2,FALSE),"") -> GG Plattenbach, Betschart Peter und Daniel | F50: 101
B51: K | C51: =C50+1 -> 3 | D51: =IFERROR(VLOOKUP(F51,Aussteller!$A$2:$B$34,2,FALSE),"") -> GG Plattenbach, Betschart Peter und Daniel | F51: 101
C52: =C51+1 -> 4 | D52: =IFERROR(VLOOKUP(F52,Aussteller!$A$2:$B$34,2,FALSE),"") -> Suter Christian, Stoosstr. 3 | F52: 49
C53: =C52+1 -> 5 | D53: =IFERROR(VLOOKUP(F53,Aussteller!$A$2:$B$34,2,FALSE),"") -> Blaser Theo, Hauptstr. 17 | F53: 9
C54: =C53+1 -> 6 | D54: =IFERROR(VLOOKUP(F54,Aussteller!$A$2:$B$34,2,FALSE),"") -> Gwerder Cornel, Marktstr. 31a | F54: 124
C55: =C54+1 -> 7 | D55: =IFERROR(VLOOKUP(F55,Aussteller!$A$2:$B$34,2,FALSE),"") -> Blaser Theo, Hauptstr. 17 | F55: 9
C56: =C55+1 -> 8 | D56: =IFERROR(VLOOKUP(F56,Aussteller!$A$2:$B$34,2,FALSE),"") -> Pfyl Oskar, Kappelmatt 2a | F56: 38
C57: =C56+1 -> 9 | D57: =IFERROR(VLOOKUP(F57,Aussteller!$A$2:$B$34,2,FALSE),"") -> Betschart Willi, Hürital 6 | F57: 133
C58: =C57+1 -> 10 | D58: =IFERROR(VLOOKUP(F58,Aussteller!$A$2:$B$34,2,FALSE),"") -> Gwerder Michael, Büchsenen | F58: 21
C59: =C58+1 -> 11 | D59: =IFERROR(VLOOKUP(F59,Aussteller!$A$2:$B$34,2,FALSE),"") -> Gwerder Christof, Boden 1 | F59: 24
C60: =C59+1 -> 12 | D60: =IFERROR(VLOOKUP(F60,Aussteller!$A$2:$B$34,2,FALSE),"") -> Gwerder Christof, Boden 1 | F60: 24
C61: =C60+1 -> 13 | D61: =IFERROR(VLOOKUP(F61,Aussteller!$A$2:$B$34,2,FALSE),"") -> Blaser Theo, Hauptstr. 17 | F61: 9
C62: =C61+1 -> 14 | D62: =IFERROR(VLOOKUP(F62,Aussteller!$A$2:$B$34,2,FALSE),"") -> Schelbert Peter, Tschalun 27 | F62: 132
C63: =C62+1 -> 15 | D63: =IFERROR(VLOOKUP(F63,Aussteller!$A$2:$B$34,2,FALSE),"") -> Betschart Willi, Hürital 6 | F63: 133
C64: =C63+1 -> 16 | D64: =IFERROR(VLOOKUP(F64,Aussteller!$A$2:$B$34,2,FALSE),"") -> Heinzer Benno, Sand 2 | F64: 71
B66: Abt. 9 | D66: ältere Alpkühe ab 4. Laktation
B67: K | C67: 1 | D67: =IFERROR(VLOOKUP(F67,Aussteller!$A$2:$B$34,2,FALSE),"") -> Blaser Theo, Hauptstr. 17 | F67: 9
B68: K | C68: =C67+1 -> 2 | D68: =IFERROR(VLOOKUP(F68,Aussteller!$A$2:$B$34,2,FALSE),"") -> Schelbert Edy, Figgleren 2 | F68: 64
B69: K | C69: =C68+1 -> 3 | D69: =IFERROR(VLOOKUP(F69,Aussteller!$A$2:$B$34,2,FALSE),"") -> Blaser Theo, Hauptstr. 17 | F69: 9
C70: =C69+1 -> 4 | D70: =IFERROR(VLOOKUP(F70,Aussteller!$A$2:$B$34,2,FALSE),"") -> Gwerder Michael, Büchsenen | F70: 21
C71: =C70+1 -> 5 | D71: =IFERROR(VLOOKUP(F71,Aussteller!$A$2:$B$34,2,FALSE),"") -> GG Plattenbach, Betschart Peter und Daniel | F71: 101
C72: =C71+1 -> 6 | D72: =IFERROR(VLOOKUP(F72,Aussteller!$A$2:$B$34,2,FALSE),"") -> GG Plattenbach, Betschart Peter und Daniel | F72: 101
C73: =C72+1 -> 7 | D73: =IFERROR(VLOOKUP(F73,Aussteller!$A$2:$B$34,2,FALSE),"") -> Blaser Theo, Hauptstr. 17 | F73: 9
C74: =C73+1 -> 8 | D74: =IFERROR(VLOOKUP(F74,Aussteller!$A$2:$B$34,2,FALSE),"") -> Pfyl Oskar, Kappelmatt 2a | F74: 38
C75: =C74+1 -> 9 | D75: =IFERROR(VLOOKUP(F75,Aussteller!$A$2:$B$34,2,FALSE),"") -> Pfyl Oskar, Kappelmatt 2a | F75: 38
C76: =C75+1 -> 10 | D76: =IFERROR(VLOOKUP(F76,Aussteller!$A$2:$B$34,2,FALSE),"") -> Gwerder Michael, Büchsenen | F76: 21
C77: =C76+1 -> 11 | D77: =IFERROR(VLOOKUP(F77,Aussteller!$A$2:$B$34,2,FALSE),"") -> Gwerder Michael, Büchsenen | F77: 21
C78: =C77+1 -> 12 | D78: =IFERROR(VLOOKUP(F78,Aussteller!$A$2:$B$34,2,FALSE),"") -> Betschart Willi, Hürital 6 | F78: 133
B80: Abt. 10 | D80: ältere Alpkühe 3. Laktation
B81: K | C81: 1 | D81: =IFERROR(VLOOKUP(F81,Aussteller!$A$2:$B$34,2,FALSE),"") -> GG Plattenbach, Betschart Peter und Daniel | F81: 101
B82: K | C82: =C81+1 -> 2 | D82: =IFERROR(VLOOKUP(F82,Aussteller!$A$2:$B$34,2,FALSE),"") -> Gwerder Michael, Büchsenen | F82: 21
B83: K | C83: =C82+1 -> 3 | D83: =IFERROR(VLOOKUP(F83,Aussteller!$A$2:$B$34,2,FALSE),"") -> Suter Christian, Stoosstr. 3 | F83: 49
C84: =C83+1 -> 4 | D84: =IFERROR(VLOOKUP(F84,Aussteller!$A$2:$B$34,2,FALSE),"") -> Gwerder Alex, Hengsthorn | F84: 82
C85: =C84+1 -> 5 | D85: =IFERROR(VLOOKUP(F85,Aussteller!$A$2:$B$34,2,FALSE),"") -> GG Plattenbach, Betschart Peter und Daniel | F85: 101
C86: =C85+1 -> 6 | D86: =IFERROR(VLOOKUP(F86,Aussteller!$A$2:$B$34,2,FALSE),"") -> Gwerder Michael, Büchsenen | F86: 21
C87: =C86+1 -> 7 | D87: =IFERROR(VLOOKUP(F87,Aussteller!$A$2:$B$34,2,FALSE),"") -> Pfyl Oskar, Kappelmatt 2a | F87: 38
C88: =C87+1 -> 8 | D88: =IFERROR(VLOOKUP(F88,Aussteller!$A$2:$B$34,2,FALSE),"") -> Gwerder Michael, Büchsenen | F88: 21
C89: =C88+1 -> 9 | D89: =IFERROR(VLOOKUP(F89,Aussteller!$A$2:$B$34,2,FALSE),"") -> Heinzer Benno, Sand 2 | F89: 71
C90: =C89+1 -> 10 | D90: =IFERROR(VLOOKUP(F90,Aussteller!$A$2:$B$34,2,FALSE),"") -> Schelbert-Bürgler Frowin, Steinweid | F90: 79
B92: Abt. 11 | D92: ältere Alpkühe ab 3. Laktation trocken
B93: K | C93: 1 | D93: =IFERROR(VLOOKUP(F93,Aussteller!$A$2:$B$34,2,FALSE),"") -> Suter Christian, Stoosstr. 3 | F93: 49
B94: K | C94: =C93+1 -> 2 | D94: =IFERROR(VLOOKUP(F94,Aussteller!$A$2:$B$34,2,FALSE),"") -> GG Plattenbach, Betschart Peter und Daniel | F94: 101
C95: =C94+1 -> 3 | D95: =IFERROR(VLOOKUP(F95,Aussteller!$A$2:$B$34,2,FALSE),"") -> Heinzer Benno, Sand 2 | F95: 71
C96: =C95+1 -> 4 | D96: =IFERROR(VLOOKUP(F96,Aussteller!$A$2:$B$34,2,FALSE),"") -> Schelbert Peter, Tschalun 27 | F96: 132
C97: =C96+1 -> 5 | D97: =IFERROR(VLOOKUP(F97,Aussteller!$A$2:$B$34,2,FALSE),"") -> Betschart Michael, Giezenen 2 | F97: 106
B99: Abt. 12 | D99: jüngere Alpkühe 2. Laktation
B100: K | C100: 1 | D100: =IFERROR(VLOOKUP(F100,Aussteller!$A$2:$B$34,2,FALSE),"") -> GG Plattenbach, Betschart Peter und Daniel | F100: 101
B101: K | C101: =C100+1 -> 2 | D101: =IFERROR(VLOOKUP(F101,Aussteller!$A$2:$B$34,2,FALSE),"") -> GG Plattenbach, Betschart Peter und Daniel | F101: 101
B102: K | C102: =C101+1 -> 3 | D102: =IFERROR(VLOOKUP(F102,Aussteller!$A$2:$B$34,2,FALSE),"") -> Suter Christian, Stoosstr. 3 | F102: 49
C103: =C102+1 -> 4 | D103: =IFERROR(VLOOKUP(F103,Aussteller!$A$2:$B$34,2,FALSE),"") -> Gwerder Roland, Höfli | F103: 107
C104: =C103+1 -> 5 | D104: =IFERROR(VLOOKUP(F104,Aussteller!$A$2:$B$34,2,FALSE),"") -> GG Plattenbach, Betschart Peter und Daniel | F104: 101
C105: =C104+1 -> 6 | D105: =IFERROR(VLOOKUP(F105,Aussteller!$A$2:$B$34,2,FALSE),"") -> Blaser Theo, Hauptstr. 17 | F105: 9
C106: =C105+1 -> 7 | D106: =IFERROR(VLOOKUP(F106,Aussteller!$A$2:$B$34,2,FALSE),"") -> GG Plattenbach, Betschart Peter und Daniel | F106: 101
...

Sheet Aussteller
A1: Betriebsnummer | B1: Betrieb | C1: Anzahl Kühe | D1: =SUM(C2:C40) -> 359
A2: 1 | B2: Betschart Silvan, Hoftrog 7 | C2: =COUNTIF(Rangliste!$F$20:$F$588,A2) -> 2
A3: 9 | B3: Blaser Theo, Hauptstr. 17 | C3: =COUNTIF(Rangliste!$F$20:$F$588,A3) -> 25
A4: 21 | B4: Gwerder Michael, Büchsenen | C4: =COUNTIF(Rangliste!$F$20:$F$588,A4) -> 22
A5: 24 | B5: Gwerder Christof, Boden 1 | C5: =COUNTIF(Rangliste!$F$20:$F$588,A5) -> 5
A6: 38 | B6: Pfyl Oskar, Kappelmatt 2a | C6: =COUNTIF(Rangliste!$F$20:$F$588,A6) -> 11
A7: 48 | B7: Suter Markus, Tristel 2 | C7: =COUNTIF(Rangliste!$F$20:$F$588,A7) -> 2
A8: 49 | B8: Suter Christian, Stoosstr. 3 | C8: =COUNTIF(Rangliste!$F$20:$F$588,A8) -> 7
A9: 64 | B9: Schelbert Edy, Figgleren 2 | C9: =COUNTIF(Rangliste!$F$20:$F$588,A9) -> 2
A10: 71 | B10: Heinzer Benno, Sand 2 | C10: =COUNTIF(Rangliste!$F$20:$F$588,A10) -> 11
A11: 73 | B11: Föhn-Zurfluh Ruedi, Grossmatt | C11: =COUNTIF(Rangliste!$F$20:$F$588,A11) -> 51
A12: 76 | B12: Büeler-Föhn Franz, Husmattli | C12: =COUNTIF(Rangliste!$F$20:$F$588,A12) -> 16
A13: 77 | B13: Gwerder Armin, Hundschöpfi | C13: =COUNTIF(Rangliste!$F$20:$F$588,A13) -> 29
... A35: 229 | B35: Betschart Ernst, Vordere Brücke 9 | C35: =COUNTIF(Rangliste!$F$20:$F$588,A35) -> 1
C36: =COUNTIF(Rangliste!$F$20:$F$588,A36) -> 0
A37: 250 | B37: Föhn Alois, Seeberg | C37: =COUNTIF(Rangliste!$F$20:$F$588,A37) -> 0
A38: 255 | B38: Schmidig Luca, ?? Evt. Blaser Theo | C38: =COUNTIF(Rangliste!$F$20:$F$588,A38) -> 1
C39: =COUNTIF(Rangliste!$F$20:$F$588,A39) -> 0
C40: =COUNTIF(Rangliste!$F$20:$F$588,A40) -> 0
C41: =COUNTIF(Rangliste!$F$20:$F$588,A41) -> 0
C42: =COUNTIF(Rangliste!$F$20:$F$588,A42) -> 0
