Workbook
Name be: Rangliste!$H$4

Sheet Rangliste
D1: Viehschau Muotathal 24.9.2026
D2: Auffuhr 359 Stück (2025 341 Stück)
G3: Betr. Nr.
B4: Miss | D4: Muotathal | H4: 1 | I4: Betschart Silvan, Hoftrog 7
C5: 1 | D5: =IFERROR(VLOOKUP(G5,Aussteller!$A$2:$B$34,2,FALSE),"") -> GG Plattenbach, Betschart Peter und Daniel | G5: 101 | H5: 9 | I5: Blaser Theo, Hauptstr. 17
C6: 2 | D6: =IFERROR(VLOOKUP(G6,Aussteller!$A$2:$B$34,2,FALSE),"") -> Gwerder Roland, Höfli | G6: 107 | H6: 21 | I6: Gwerder Michael, Büchsenen
C7: 3 | D7: =IFERROR(VLOOKUP(G7,Aussteller!$A$2:$B$34,2,FALSE),"") -> Gwerder Roland, Höfli | G7: 107 | H7: 24 | I7: Gwerder Christof, Boden 1
H8: 38 | I8: Pfyl Oskar, Kappelmatt 2a
B9: Miss | D9: Original Braunvieh | H9: 48 | I9: Suter Markus, Tristel 2
C10: 1 | D10: =IFERROR(VLOOKUP(G10,Aussteller!$A$2:$B$34,2,FALSE),"") -> Suter Christian, Stoosstr. 3 | G10: 49 | H10: 49 | I10: Suter Christian, Stoosstr. 3
C11: 2 | D11: =IFERROR(VLOOKUP(G11,Aussteller!$A$2:$B$34,2,FALSE),"") -> Bürgler Roland, Pächtenmatt | G11: 203 | H11: 64 | I11: Schelbert Edy, Figgleren 2
C12: 3 | D12: =IFERROR(VLOOKUP(G12,Aussteller!$A$2:$B$34,2,FALSE),"") -> Föhn-Zurfluh Ruedi, Grossmatt | G12: 73 | H12: 71 | I12: Heinzer Benno, Sand 2
H13: 73 | I13: Föhn-Zurfluh Ruedi, Grossmatt
B14: Miss | D14: Schöneuter | H14: 76 | I14: Büeler-Föhn Franz, Husmattli
C15: 1 | D15: =IFERROR(VLOOKUP(G15,Aussteller!$A$2:$B$34,2,FALSE),"") -> Gwerder Roland, Höfli | G15: 107 | H15: 77 | I15: Gwerder Armin, Hundschöpfi
C16: 2 | D16: =IFERROR(VLOOKUP(G16,Aussteller!$A$2:$B$34,2,FALSE),"") -> GG Plattenbach, Betschart Peter und Daniel | G16: 101 | H16: 79 | I16: Schelbert-Bürgler Frowin, Steinweid
C17: 3 | D17: =IFERROR(VLOOKUP(G17,Aussteller!$A$2:$B$34,2,FALSE),"") -> GG Plattenbach, Betschart Peter und Daniel | G17: 101 | H17: 82 | I17: Gwerder Alex, Hengsthorn
H18: 101 | I18: GG Plattenbach, Betschart Peter und Daniel
B19: Miss | D19: Rind | H19: 103 | I19: BG Betschart-Suter, Wil 37
C20: 1 | D20: =IFERROR(VLOOKUP(G20,Aussteller!$A$2:$B$34,2,FALSE),"") -> GG Plattenbach, Betschart Peter und Daniel | G20: 101 | H20: 105 | I20: Betschart-Marty Oswin, Huob
C21: 2 | D21: =IFERROR(VLOOKUP(G21,Aussteller!$A$2:$B$34,2,FALSE),"") -> Gwerder Roland, Höfli | G21: 107 | H21: 106 | I21: Betschart Michael, Giezenen 2
C22: 3 | D22: =IFERROR(VLOOKUP(G22,Aussteller!$A$2:$B$34,2,FALSE),"") -> Pfyl Oskar, Kappelmatt 2a | G22: 38 | H22: 107 | I22: Gwerder Roland, Höfli
H23: 119 | I23: Gwerder Manuel, Figgleren 2
B24: Miss | D24: OB Rind | H24: 124 | I24: Gwerder Cornel, Marktstr. 31a
C25: 1 | D25: =IFERROR(VLOOKUP(G25,Aussteller!$A$2:$B$34,2,FALSE),"") -> Föhn-Zurfluh Ruedi, Grossmatt | G25: 73 | H25: 126 | I25: Beeler Noldi, Hürithal 10
C26: 2 | D26: =IFERROR(VLOOKUP(G26,Aussteller!$A$2:$B$34,2,FALSE),"") -> Bürgler Roland, Pächtenmatt | G26: 203 | H26: 127 | I26: Schelbert Armin, Hauptstr. 86
C27: 3 | D27: =IFERROR(VLOOKUP(G27,Aussteller!$A$2:$B$34,2,FALSE),"") -> Gwerder Armin, Hundschöpfi | G27: 77 | H27: 129 | I27: Betschart Manfred, Ober Eggeli 2
H28: 130 | I28: Schelbert Cornel, Haselbach 2
B29: Abt. 1 | D29: Stiere über 2 Jahre | F29: Betr. Nr. | H29: 132 | I29: Schelbert Peter, Tschalun 27
B30: K | C30: 1 | D30: =IFERROR(VLOOKUP(F30,Aussteller!$A$2:$B$35,2,FALSE),"") -> Betschart Ernst, Vordere Brücke 9 | F30: 229 | H30: 133 | I30: Betschart Willi, Hürital 6
B31: K | C31: =C30+1 -> 2 | D31: =IFERROR(VLOOKUP(F31,Aussteller!$A$2:$B$34,2,FALSE),"") -> Blaser Theo, Hauptstr. 17 | F31: 9 | H31: 200 | I31: Betschart Xaver, Hengsthorn
C32: =C31+1 -> 3 | D32: =IFERROR(VLOOKUP(F32,Aussteller!$A$2:$B$34,2,FALSE),"") -> Betschart Michael, Giezenen 2 | F32: 106 | H32: 201 | I32: Betschart Daniel, Kosterweid
C33: =C32+1 -> 4 | D33: =IFERROR(VLOOKUP(F33,Aussteller!$A$2:$B$34,2,FALSE),"") -> Pfyl Oskar, Kappelmatt 2a | F33: 38 | H33: 202 | I33: Bürgler Pius, Teufdohlen
B35: Abt. 2 | D35: Stiere 1 – 2 Jahre
B36: K | C36: 1 | D36: =IFERROR(VLOOKUP(F36,Aussteller!$A$2:$B$34,2,FALSE),"") -> Büeler-Föhn Franz, Husmattli | F36: 76
B37: K | C37: =C36+1 -> 2 | D37: =IFERROR(VLOOKUP(F37,Aussteller!$A$2:$B$34,2,FALSE),"") -> GG Plattenbach, Betschart Peter und Daniel | F37: 101
C38: =C37+1 -> 3 | D38: =IFERROR(VLOOKUP(F38,Aussteller!$A$2:$B$34,2,FALSE),"") -> Gwerder Alex, Hengsthorn | F38: 82
C39: =C38+1 -> 4 | D39: =IFERROR(VLOOKUP(F39,Aussteller!$A$2:$B$34,2,FALSE),"") -> Suter Markus, Tristel 2 | F39: 48
B41: Abt. 3 | D41: Stiere bis 1 Jahr
B42: K | C42: 1 | D42: =IFERROR(VLOOKUP(F42,Aussteller!$A$2:$B$34,2,FALSE),"") -> Betschart-Marty Oswin, Huob | F42: 105
...

Sheet Aussteller
A1: Betriebsnummer | B1: Betrieb | C1: Anzahl Kühe | D1: =SUM(C2:C40) -> 359
A2: 1 | B2: Betschart Silvan, Hoftrog 7 | C2: =COUNTIF(Rangliste!$F$20:$F$588,A2) -> 2
A3: 9 | B3: Blaser Theo, Hauptstr. 17 | C3: =COUNTIF(Rangliste!$F$20:$F$588,A3) -> 25
A4: 21 | B4: Gwerder Michael, Büchsenen | C4: =COUNTIF(Rangliste!$F$20:$F$588,A4) -> 22
A5: 24 | B5: Gwerder Christof, Boden 1 | C5: =COUNTIF(Rangliste!$F$20:$F$588,A5) -> 5
A6: 38 | B6: Pfyl Oskar, Kappelmatt 2a | C6: =COUNTIF(Rangliste!$F$20:$F$588,A6) -> 11
A7: 48 | B7: Suter Markus, Tristel 2 | C7: =COUNTIF(Rangliste!$F$20:$F$588,A7) -> 2
A8: 49 | B8: Suter Christian, Stoosstr. 3 | C8: =COUNTIF(Rangliste!$F$20:$F$588,A8) -> 7
A9: 64 | B9: Schelbert Edy, Figgleren 2 | C9: =COUNTIF(Rangliste!$F$20:$F$588,A9) -> 2
A10: 71 | B10: Heinzer Benno, Sand 2 | C10: =COUNTIF(Rangliste!$F$20:$F$588,A10) -> 11
A11: 73 | B11: Föhn-Zurfluh Ruedi, Grossmatt | C11: =COUNTIF(Rangliste!$F$20:$F$588,A11) -> 51
A12: 76 | B12: Büeler-Föhn Franz, Husmattli | C12: =COUNTIF(Rangliste!$F$20:$F$588,A12) -> 16
A13: 77 | B13: Gwerder Armin, Hundschöpfi | C13: =COUNTIF(Rangliste!$F$20:$F$588,A13) -> 29
... A35: 229 | B35: Betschart Ernst, Vordere Brücke 9 | C35: =COUNTIF(Rangliste!$F$20:$F$588,A35) -> 1
C36: =COUNTIF(Rangliste!$F$20:$F$588,A36) -> 0
A37: 250 | B37: Föhn Alois, Seeberg | C37: =COUNTIF(Rangliste!$F$20:$F$588,A37) -> 0
A38: 255 | B38: Schmidig Luca, ?? Evt. Blaser Theo | C38: =COUNTIF(Rangliste!$F$20:$F$588,A38) -> 1
C39: =COUNTIF(Rangliste!$F$20:$F$588,A39) -> 0
C40: =COUNTIF(Rangliste!$F$20:$F$588,A40) -> 0
C41: =COUNTIF(Rangliste!$F$20:$F$588,A41) -> 0
C42: =COUNTIF(Rangliste!$F$20:$F$588,A42) -> 0
